BEGIN:VCALENDAR
VERSION:2.0
PRODID:-//BC Trucking Association - ECPv6.15.20//NONSGML v1.0//EN
CALSCALE:GREGORIAN
METHOD:PUBLISH
X-ORIGINAL-URL:https://bctrucking.com
X-WR-CALDESC:Events for BC Trucking Association
REFRESH-INTERVAL;VALUE=DURATION:PT1H
X-Robots-Tag:noindex
X-PUBLISHED-TTL:PT1H
BEGIN:VTIMEZONE
TZID:America/Vancouver
BEGIN:DAYLIGHT
TZOFFSETFROM:-0800
TZOFFSETTO:-0700
TZNAME:PDT
DTSTART:20240310T100000
END:DAYLIGHT
BEGIN:STANDARD
TZOFFSETFROM:-0700
TZOFFSETTO:-0800
TZNAME:PST
DTSTART:20241103T090000
END:STANDARD
BEGIN:DAYLIGHT
TZOFFSETFROM:-0800
TZOFFSETTO:-0700
TZNAME:PDT
DTSTART:20250309T100000
END:DAYLIGHT
BEGIN:STANDARD
TZOFFSETFROM:-0700
TZOFFSETTO:-0800
TZNAME:PST
DTSTART:20251102T090000
END:STANDARD
BEGIN:DAYLIGHT
TZOFFSETFROM:-0800
TZOFFSETTO:-0700
TZNAME:PDT
DTSTART:20260308T100000
END:DAYLIGHT
BEGIN:STANDARD
TZOFFSETFROM:-0700
TZOFFSETTO:-0800
TZNAME:PST
DTSTART:20261101T090000
END:STANDARD
END:VTIMEZONE
BEGIN:VEVENT
DTSTART;TZID=America/Vancouver:20250603T153000
DTEND;TZID=America/Vancouver:20250603T190000
DTSTAMP:20260419T182913
CREATED:20250512T173540Z
LAST-MODIFIED:20250528T172012Z
UID:10000052-1748964600-1748977200@bctrucking.com
SUMMARY:Trucking Talks: Prince George Edition
DESCRIPTION:Join the BC Trucking Association (BCTA) and SafetyDriven on June 3rd for Trucking Talks: Prince George Edition– a regional meeting open to all interested trucking companies and suppliers to BC’s commercial transportation industry.\nWe’re bringing the latest industry insights straight to you. Hear from Dave Earle\, BCTA President & CEO\, as he breaks down the current state of the industry\, including:\n• The latest on cross-border tariffs and US executive orders\n• Provincial road safety initiatives\n• What’s happening with driver misclassification\n• MELT updates you need to know \nYou’ll also hear from Darshan Gill\, SafetyDriven’s Industry Health & Safety Services Manager\, who will walk you through:\n• Key occupational health and safety regulation changes impacting the trucking industry\n• Insights into the Certificate of Recognition (COR) Program\n• Latest industry stats on workforce trends\n• A look at psychological safety and the growing importance of Mental Health First Aid \nGot questions? Bring them. We’ll have the answers. Got interested co-workers? Bring them too! Hungry? We’ve got you covered- come have dinner with us. \nWhen: Tuesday\, June 3rd 4:00-7:00 PM\nWhere: Courtyard Prince George\, 900 Brunswick Street\nRegistration opens at 3:30pm
URL:https://bctrucking.com/event/trucking-talks-prince-george-edition/
LOCATION:Courtyard Prince George\, 900 Brunswick St\, Prince George\, BC\, V2L 0E3\, Canada
CATEGORIES:Events
ATTACH;FMTTYPE=image/png:https://bctrucking.com/wp-content/uploads/2025/05/TT-PG-graphic-scaled.png
ORGANIZER;CN="BC Trucking Association":MAILTO:bcta@bctrucking.com
END:VEVENT
END:VCALENDAR