BEGIN:VCALENDAR
VERSION:2.0
PRODID:-//BC Trucking Association - ECPv6.15.20//NONSGML v1.0//EN
CALSCALE:GREGORIAN
METHOD:PUBLISH
X-ORIGINAL-URL:https://bctrucking.com
X-WR-CALDESC:Events for BC Trucking Association
REFRESH-INTERVAL;VALUE=DURATION:PT1H
X-Robots-Tag:noindex
X-PUBLISHED-TTL:PT1H
BEGIN:VTIMEZONE
TZID:America/Vancouver
BEGIN:DAYLIGHT
TZOFFSETFROM:-0800
TZOFFSETTO:-0700
TZNAME:PDT
DTSTART:20240310T100000
END:DAYLIGHT
BEGIN:STANDARD
TZOFFSETFROM:-0700
TZOFFSETTO:-0800
TZNAME:PST
DTSTART:20241103T090000
END:STANDARD
BEGIN:DAYLIGHT
TZOFFSETFROM:-0800
TZOFFSETTO:-0700
TZNAME:PDT
DTSTART:20250309T100000
END:DAYLIGHT
BEGIN:STANDARD
TZOFFSETFROM:-0700
TZOFFSETTO:-0800
TZNAME:PST
DTSTART:20251102T090000
END:STANDARD
BEGIN:DAYLIGHT
TZOFFSETFROM:-0800
TZOFFSETTO:-0700
TZNAME:PDT
DTSTART:20260308T100000
END:DAYLIGHT
BEGIN:STANDARD
TZOFFSETFROM:-0700
TZOFFSETTO:-0800
TZNAME:PST
DTSTART:20261101T090000
END:STANDARD
END:VTIMEZONE
BEGIN:VEVENT
DTSTART;TZID=America/Vancouver:20250625T103000
DTEND;TZID=America/Vancouver:20250625T153000
DTSTAMP:20260419T183106
CREATED:20250603T184655Z
LAST-MODIFIED:20250618T231819Z
UID:10000053-1750847400-1750865400@bctrucking.com
SUMMARY:Golf 101: Swing into Confidence
DESCRIPTION:Attention BCTA Members! Whether you are brand new to golf or just need a little confidence boost before the next best ball tournament\, we have you covered! \nJoin us for Golf 101: Swing into Confidence on Wednesday\, June 25 at the Westfield Country Club executive course. This fun\, beginner-friendly event includes: \n• A relaxed group lesson on golf basics and course etiquette\n• Time on the green to practice what you’ve learned\n• A delicious lunch and a chance to network with fellow industry members \nYou’ll leave with the knowledge and confidence you need to join in future best ball golf tournaments and industry events. \nThis event is open to all BCTA members. Space is limited\, so don’t wait- register today! **Members must log in (no guest accounts) to receive member rate** \nFor sponsorship opportunities\, click here.
URL:https://bctrucking.com/event/golf-101-swing-into-confidence/
LOCATION:Westfield Country Club\, 7778 152 St\, Surrey\, British Columbia\, V3S 3M4\, Canada
CATEGORIES:Events
ATTACH;FMTTYPE=image/png:https://bctrucking.com/wp-content/uploads/2025/06/Golf101-cover.png
ORGANIZER;CN="BC Trucking Association":MAILTO:bcta@bctrucking.com
END:VEVENT
END:VCALENDAR